BEGIN:VCALENDAR
VERSION:2.0
PRODID:-//Villa Serena Association - ECPv6.15.20//NONSGML v1.0//EN
CALSCALE:GREGORIAN
METHOD:PUBLISH
X-WR-CALNAME:Villa Serena Association
X-ORIGINAL-URL:https://villaserenaassociation.com
X-WR-CALDESC:Events for Villa Serena Association
REFRESH-INTERVAL;VALUE=DURATION:PT1H
X-Robots-Tag:noindex
X-PUBLISHED-TTL:PT1H
BEGIN:VTIMEZONE
TZID:UTC
BEGIN:STANDARD
TZOFFSETFROM:+0000
TZOFFSETTO:+0000
TZNAME:UTC
DTSTART:20230101T000000
END:STANDARD
END:VTIMEZONE
BEGIN:VEVENT
DTSTART;TZID=UTC:20260217T170000
DTEND;TZID=UTC:20260217T170000
DTSTAMP:20260423T220646
CREATED:20250926T163229Z
LAST-MODIFIED:20260317T171110Z
UID:2247-1771347600-1771347600@villaserenaassociation.com
SUMMARY:Annual Meeting
DESCRIPTION:5:00pm – Annual Meeting\n5:30pm – Social Hour\nHOA Annual Meeting – Owners\nSocial Hour Afterwards – Everyone welcome\n \nVS Annual Meeting 2026
URL:https://villaserenaassociation.com/event/annual-meeting-02172026/
LOCATION:Villa Serena Clubhouse
CATEGORIES:Board Meeting
ATTACH;FMTTYPE=image/png:https://villaserenaassociation.com/wp-content/uploads/2025/09/Annual-Meeting.png
END:VEVENT
BEGIN:VEVENT
DTSTART;TZID=UTC:20260208T160000
DTEND;TZID=UTC:20260208T160000
DTSTAMP:20260423T220646
CREATED:20250926T162534Z
LAST-MODIFIED:20260122T164837Z
UID:2244-1770566400-1770566400@villaserenaassociation.com
SUMMARY:Super Bowl Party
DESCRIPTION:It’s game time!\nCome join your neighbors for Super Bowl LX.\nBYOB & optional snack to share.
URL:https://villaserenaassociation.com/event/super-bowl-party-02082026/
LOCATION:Villa Serena Clubhouse
ATTACH;FMTTYPE=image/png:https://villaserenaassociation.com/wp-content/uploads/2025/09/Super-Bowl-Party.png
END:VEVENT
BEGIN:VEVENT
DTSTART;VALUE=DATE:20260113
DTEND;VALUE=DATE:20260114
DTSTAMP:20260423T220646
CREATED:20250226T160422Z
LAST-MODIFIED:20250226T160422Z
UID:2123-1768262400-1768348799@villaserenaassociation.com
SUMMARY:January Board Meeting
DESCRIPTION:
URL:https://villaserenaassociation.com/event/january-2026-board-meeting/
LOCATION:Villa Serena Clubhouse
CATEGORIES:Board Meeting
END:VEVENT
BEGIN:VEVENT
DTSTART;TZID=UTC:20251211T180000
DTEND;TZID=UTC:20251211T180000
DTSTAMP:20260423T220646
CREATED:20250926T162122Z
LAST-MODIFIED:20250926T162145Z
UID:2241-1765476000-1765476000@villaserenaassociation.com
SUMMARY:Sip & Centerpiece
DESCRIPTION:Welcome Winter\nStefanie (7071) will lead this fun event! $55-65 per person\, BYOB & optional appetizer.\nMore details to come.
URL:https://villaserenaassociation.com/event/sip-centerpiece-12112025/
LOCATION:Villa Serena Clubhouse
ATTACH;FMTTYPE=image/png:https://villaserenaassociation.com/wp-content/uploads/2025/09/Sip-Centerpiece.png
END:VEVENT
BEGIN:VEVENT
DTSTART;TZID=UTC:20251207T100000
DTEND;TZID=UTC:20251207T120000
DTSTAMP:20260423T220646
CREATED:20250926T160749Z
LAST-MODIFIED:20250926T161752Z
UID:2237-1765101600-1765108800@villaserenaassociation.com
SUMMARY:Holiday Brunch
DESCRIPTION:Let’s spread holiday cheer! Great food and fun\,\nled by Kristina & Ryan (7059).
URL:https://villaserenaassociation.com/event/holiday-brunch-12072025/
LOCATION:Villa Serena Clubhouse
ATTACH;FMTTYPE=image/png:https://villaserenaassociation.com/wp-content/uploads/2025/09/Holiday-Brunch-2025.png
END:VEVENT
BEGIN:VEVENT
DTSTART;VALUE=DATE:20251111
DTEND;VALUE=DATE:20251112
DTSTAMP:20260423T220646
CREATED:20250226T160304Z
LAST-MODIFIED:20250226T160304Z
UID:2121-1762819200-1762905599@villaserenaassociation.com
SUMMARY:November Board Meeting
DESCRIPTION:
URL:https://villaserenaassociation.com/event/november-2025-board-meeting/
LOCATION:Villa Serena Clubhouse
CATEGORIES:Board Meeting
END:VEVENT
BEGIN:VEVENT
DTSTART;TZID=UTC:20251107T170000
DTEND;TZID=UTC:20251107T183000
DTSTAMP:20260423T220646
CREATED:20250926T155919Z
LAST-MODIFIED:20250926T160237Z
UID:2234-1762534800-1762540200@villaserenaassociation.com
SUMMARY:Chili Night
DESCRIPTION:It’s Chili Night\nDelicious Chili\, BYOB\nIf you’d like to bring chili\, let us know! \nQuestions? Call/text 602-329-2199 or email michelevwolff@gmail.com
URL:https://villaserenaassociation.com/event/chili-night-11072025/
LOCATION:Villa Serena Clubhouse
ATTACH;FMTTYPE=image/jpeg:https://villaserenaassociation.com/wp-content/uploads/2024/09/7744117-spicy-slow-cooked-chili-1200x675-1.jpg
END:VEVENT
BEGIN:VEVENT
DTSTART;VALUE=DATE:20250909
DTEND;VALUE=DATE:20250910
DTSTAMP:20260423T220646
CREATED:20250226T160147Z
LAST-MODIFIED:20250226T160147Z
UID:2119-1757376000-1757462399@villaserenaassociation.com
SUMMARY:September Board Meeting
DESCRIPTION:
URL:https://villaserenaassociation.com/event/september-2025-board-meeting/
LOCATION:Villa Serena Clubhouse
CATEGORIES:Board Meeting
END:VEVENT
BEGIN:VEVENT
DTSTART;TZID=UTC:20250508T150000
DTEND;TZID=UTC:20250508T150000
DTSTAMP:20260423T220646
CREATED:20250226T160025Z
LAST-MODIFIED:20250429T135304Z
UID:2117-1746716400-1746716400@villaserenaassociation.com
SUMMARY:May Board Meeting
DESCRIPTION:
URL:https://villaserenaassociation.com/event/may-2025-board-meeting/
LOCATION:Villa Serena Clubhouse
CATEGORIES:Board Meeting
END:VEVENT
BEGIN:VEVENT
DTSTART;TZID=UTC:20250502T170000
DTEND;TZID=UTC:20250502T183000
DTSTAMP:20260423T220646
CREATED:20240904T211535Z
LAST-MODIFIED:20240905T200315Z
UID:2010-1746205200-1746210600@villaserenaassociation.com
SUMMARY:First Friday - Dos de Mayo
DESCRIPTION:
URL:https://villaserenaassociation.com/event/first-friday-may-2025-dos-de-mayo/
LOCATION:Villa Serena Clubhouse
END:VEVENT
BEGIN:VEVENT
DTSTART;TZID=UTC:20250404T170000
DTEND;TZID=UTC:20250404T183000
DTSTAMP:20260423T220646
CREATED:20240904T211349Z
LAST-MODIFIED:20240905T200224Z
UID:2008-1743786000-1743791400@villaserenaassociation.com
SUMMARY:First Friday
DESCRIPTION:
URL:https://villaserenaassociation.com/event/first-friday-apr-2025/
LOCATION:Homeowner’s House
END:VEVENT
BEGIN:VEVENT
DTSTART;TZID=UTC:20250315T113000
DTEND;TZID=UTC:20250315T113000
DTSTAMP:20260423T220646
CREATED:20240904T211235Z
LAST-MODIFIED:20250225T180518Z
UID:2006-1742038200-1742038200@villaserenaassociation.com
SUMMARY:Ladies Luncheon
DESCRIPTION:Let’s Do Lunch Villa Serena\nLadies Luncheon \nLet us know if you’d like to sign up to bring one of the following:\nQuiche\, salad\, dessert \nKindly RSVP: Email kabob@willapabay.org or text 503-504-5999
URL:https://villaserenaassociation.com/event/ladies-luncheon-mar-2025/
LOCATION:Villa Serena Clubhouse
ATTACH;FMTTYPE=image/png:https://villaserenaassociation.com/wp-content/uploads/2024/09/Lets-Do-Lunch-Villa-Serena-Ladies-Luncheon-Event.png
END:VEVENT
BEGIN:VEVENT
DTSTART;TZID=UTC:20250307T170000
DTEND;TZID=UTC:20250307T183000
DTSTAMP:20260423T220646
CREATED:20240904T211049Z
LAST-MODIFIED:20240905T200145Z
UID:2004-1741366800-1741372200@villaserenaassociation.com
SUMMARY:First Friday
DESCRIPTION:
URL:https://villaserenaassociation.com/event/first-friday-mar-2025/
LOCATION:Homeowner’s House
END:VEVENT
BEGIN:VEVENT
DTSTART;VALUE=DATE:20250305
DTEND;VALUE=DATE:20250306
DTSTAMP:20260423T220646
CREATED:20250226T155851Z
LAST-MODIFIED:20250226T155919Z
UID:2115-1741132800-1741219199@villaserenaassociation.com
SUMMARY:March Board Meeting
DESCRIPTION:
URL:https://villaserenaassociation.com/event/march-2025-board-meeting/
LOCATION:Villa Serena Clubhouse
CATEGORIES:Board Meeting
END:VEVENT
BEGIN:VEVENT
DTSTART;TZID=UTC:20250207T170000
DTEND;TZID=UTC:20250207T183000
DTSTAMP:20260423T220646
CREATED:20240904T210922Z
LAST-MODIFIED:20240905T200118Z
UID:2002-1738947600-1738953000@villaserenaassociation.com
SUMMARY:First Friday
DESCRIPTION:
URL:https://villaserenaassociation.com/event/first-friday-feb-2025/
LOCATION:Homeowner’s House
END:VEVENT
BEGIN:VEVENT
DTSTART;TZID=UTC:20250103T170000
DTEND;TZID=UTC:20250103T183000
DTSTAMP:20260423T220646
CREATED:20240904T210815Z
LAST-MODIFIED:20240905T200048Z
UID:2000-1735923600-1735929000@villaserenaassociation.com
SUMMARY:First Friday
DESCRIPTION:
URL:https://villaserenaassociation.com/event/first-friday-jan-2025/
LOCATION:Homeowner’s House
END:VEVENT
BEGIN:VEVENT
DTSTART;VALUE=DATE:20241208
DTEND;VALUE=DATE:20241209
DTSTAMP:20260423T220646
CREATED:20240904T210611Z
LAST-MODIFIED:20240905T200020Z
UID:1998-1733616000-1733702399@villaserenaassociation.com
SUMMARY:Holiday Brunch
DESCRIPTION:
URL:https://villaserenaassociation.com/event/holiday-brunch-dec-2024/
LOCATION:Villa Serena Clubhouse
END:VEVENT
BEGIN:VEVENT
DTSTART;TZID=UTC:20241102T090000
DTEND;TZID=UTC:20241102T090000
DTSTAMP:20260423T220646
CREATED:20240801T155511Z
LAST-MODIFIED:20240911T170730Z
UID:1738-1730538000-1730538000@villaserenaassociation.com
SUMMARY:November Board Meeting
DESCRIPTION:
URL:https://villaserenaassociation.com/event/november-2024-board-meeting/
LOCATION:Villa Serena Clubhouse
CATEGORIES:Board Meeting
END:VEVENT
BEGIN:VEVENT
DTSTART;TZID=UTC:20241101T170000
DTEND;TZID=UTC:20241101T183000
DTSTAMP:20260423T220646
CREATED:20240904T210437Z
LAST-MODIFIED:20241016T182303Z
UID:1996-1730480400-1730485800@villaserenaassociation.com
SUMMARY:First Friday\, Chili Night
DESCRIPTION:Villa Serena \nNovember Happy Hour\nCome have fun with your neighbors! \nIt’s Chili Night\nWe’ll Have Delicious Meat & Vegetarian Chili\n-BYOB-\nLet us know if you’d like to sign up to bring your favorite chili \nPlease remember no glass in the pool area. \nWe look forward to seeing everyone!\nQuestions? Call/text 602-329-2199 or email michelevwolff@gmail.com
URL:https://villaserenaassociation.com/event/first-friday-chili-night-nov-2024/
LOCATION:Villa Serena Clubhouse
ATTACH;FMTTYPE=image/jpeg:https://villaserenaassociation.com/wp-content/uploads/2024/09/7744117-spicy-slow-cooked-chili-1200x675-1.jpg
END:VEVENT
BEGIN:VEVENT
DTSTART;TZID=UTC:20241024T180000
DTEND;TZID=UTC:20241024T180000
DTSTAMP:20260423T220646
CREATED:20240904T210243Z
LAST-MODIFIED:20241016T182934Z
UID:1994-1729792800-1729792800@villaserenaassociation.com
SUMMARY:Succulent Pumpkin Event
DESCRIPTION:$40/person. BYOB and optional appetizer
URL:https://villaserenaassociation.com/event/succulent-pumpkin-event-oct-2024/
LOCATION:Villa Serena Clubhouse
ATTACH;FMTTYPE=image/jpeg:https://villaserenaassociation.com/wp-content/uploads/2024/09/Succulent-Pumpkin-1200x675-1.jpg
END:VEVENT
BEGIN:VEVENT
DTSTART;TZID=UTC:20240907T090000
DTEND;TZID=UTC:20240907T090000
DTSTAMP:20260423T220646
CREATED:20240801T155223Z
LAST-MODIFIED:20240801T155328Z
UID:1735-1725699600-1725699600@villaserenaassociation.com
SUMMARY:September Board Meeting
DESCRIPTION:
URL:https://villaserenaassociation.com/event/september-2024-board-meeting/
LOCATION:Villa Serena Clubhouse
CATEGORIES:Board Meeting
END:VEVENT
END:VCALENDAR