BEGIN:VCALENDAR
VERSION:2.0
PRODID:-//Villa Serena Association - ECPv6.15.20//NONSGML v1.0//EN
CALSCALE:GREGORIAN
METHOD:PUBLISH
X-ORIGINAL-URL:https://villaserenaassociation.com
X-WR-CALDESC:Events for Villa Serena Association
REFRESH-INTERVAL;VALUE=DURATION:PT1H
X-Robots-Tag:noindex
X-PUBLISHED-TTL:PT1H
BEGIN:VTIMEZONE
TZID:UTC
BEGIN:STANDARD
TZOFFSETFROM:+0000
TZOFFSETTO:+0000
TZNAME:UTC
DTSTART:20250101T000000
END:STANDARD
END:VTIMEZONE
BEGIN:VEVENT
DTSTART;TZID=UTC:20260519T160000
DTEND;TZID=UTC:20260519T160000
DTSTAMP:20260423T171604
CREATED:20260312T163417Z
LAST-MODIFIED:20260312T163511Z
UID:2315-1779206400-1779206400@villaserenaassociation.com
SUMMARY:May Board Meeting
DESCRIPTION:
URL:https://villaserenaassociation.com/event/may-2026-board-meeting/
LOCATION:Villa Serena Clubhouse
CATEGORIES:Board Meeting
END:VEVENT
BEGIN:VEVENT
DTSTART;TZID=UTC:20260616T160000
DTEND;TZID=UTC:20260616T160000
DTSTAMP:20260423T171604
CREATED:20260312T163632Z
LAST-MODIFIED:20260312T163632Z
UID:2317-1781625600-1781625600@villaserenaassociation.com
SUMMARY:June Board Meeting
DESCRIPTION:
URL:https://villaserenaassociation.com/event/june-2026-board-meeting/
LOCATION:Villa Serena Clubhouse
CATEGORIES:Board Meeting
END:VEVENT
BEGIN:VEVENT
DTSTART;TZID=UTC:20260915T160000
DTEND;TZID=UTC:20260915T160000
DTSTAMP:20260423T171604
CREATED:20260312T163911Z
LAST-MODIFIED:20260312T163911Z
UID:2319-1789488000-1789488000@villaserenaassociation.com
SUMMARY:September Board Meeting
DESCRIPTION:
URL:https://villaserenaassociation.com/event/september-2026-board-meeting/
LOCATION:Villa Serena Clubhouse
CATEGORIES:Board Meeting
END:VEVENT
BEGIN:VEVENT
DTSTART;TZID=UTC:20261020T160000
DTEND;TZID=UTC:20261020T160000
DTSTAMP:20260423T171604
CREATED:20260312T164247Z
LAST-MODIFIED:20260312T164247Z
UID:2321-1792512000-1792512000@villaserenaassociation.com
SUMMARY:October Board Meeting
DESCRIPTION:
URL:https://villaserenaassociation.com/event/october-2026-board-meeting/
LOCATION:Villa Serena Clubhouse
CATEGORIES:Board Meeting
END:VEVENT
BEGIN:VEVENT
DTSTART;TZID=UTC:20261117T160000
DTEND;TZID=UTC:20261117T160000
DTSTAMP:20260423T171604
CREATED:20260312T164403Z
LAST-MODIFIED:20260312T164403Z
UID:2323-1794931200-1794931200@villaserenaassociation.com
SUMMARY:November Board Meeting
DESCRIPTION:
URL:https://villaserenaassociation.com/event/november-2026-board-meeting/
LOCATION:Villa Serena Clubhouse
CATEGORIES:Board Meeting
END:VEVENT
BEGIN:VEVENT
DTSTART;TZID=UTC:20261215T160000
DTEND;TZID=UTC:20261215T160000
DTSTAMP:20260423T171604
CREATED:20260312T164520Z
LAST-MODIFIED:20260312T164520Z
UID:2325-1797350400-1797350400@villaserenaassociation.com
SUMMARY:December Board Meeting
DESCRIPTION:
URL:https://villaserenaassociation.com/event/december-2026-board-meeting/
LOCATION:Villa Serena Clubhouse
CATEGORIES:Board Meeting
END:VEVENT
BEGIN:VEVENT
DTSTART;TZID=UTC:20270119T160000
DTEND;TZID=UTC:20270119T160000
DTSTAMP:20260423T171604
CREATED:20260312T164638Z
LAST-MODIFIED:20260312T164638Z
UID:2327-1800374400-1800374400@villaserenaassociation.com
SUMMARY:January Board Meeting
DESCRIPTION:
URL:https://villaserenaassociation.com/event/january-2027-board-meeting/
LOCATION:Villa Serena Clubhouse
CATEGORIES:Board Meeting
END:VEVENT
BEGIN:VEVENT
DTSTART;TZID=UTC:20270216T170000
DTEND;TZID=UTC:20270216T170000
DTSTAMP:20260423T171604
CREATED:20260312T164927Z
LAST-MODIFIED:20260317T171043Z
UID:2329-1802797200-1802797200@villaserenaassociation.com
SUMMARY:Annual Meeting 2027
DESCRIPTION:
URL:https://villaserenaassociation.com/event/annual-meeting-2027/
LOCATION:Villa Serena Clubhouse
CATEGORIES:Board Meeting
ATTACH;FMTTYPE=image/png:https://villaserenaassociation.com/wp-content/uploads/2025/09/Annual-Meeting.png
END:VEVENT
END:VCALENDAR