BEGIN:VCALENDAR
VERSION:2.0
PRODID:-//Villa Serena Association - ECPv6.15.20//NONSGML v1.0//EN
CALSCALE:GREGORIAN
METHOD:PUBLISH
X-WR-CALNAME:Villa Serena Association
X-ORIGINAL-URL:https://villaserenaassociation.com
X-WR-CALDESC:Events for Villa Serena Association
REFRESH-INTERVAL;VALUE=DURATION:PT1H
X-Robots-Tag:noindex
X-PUBLISHED-TTL:PT1H
BEGIN:VTIMEZONE
TZID:UTC
BEGIN:STANDARD
TZOFFSETFROM:+0000
TZOFFSETTO:+0000
TZNAME:UTC
DTSTART:20230101T000000
END:STANDARD
END:VTIMEZONE
BEGIN:VEVENT
DTSTART;TZID=UTC:20260421T160000
DTEND;TZID=UTC:20260421T160000
DTSTAMP:20260423T185227
CREATED:20260312T163231Z
LAST-MODIFIED:20260317T171434Z
UID:2313-1776787200-1776787200@villaserenaassociation.com
SUMMARY:April Board Meeting
DESCRIPTION:
URL:https://villaserenaassociation.com/event/april-2026-board-meeting/
LOCATION:Villa Serena Clubhouse
CATEGORIES:Board Meeting
END:VEVENT
BEGIN:VEVENT
DTSTART;TZID=UTC:20260317T160000
DTEND;TZID=UTC:20260317T160000
DTSTAMP:20260423T185227
CREATED:20260312T163032Z
LAST-MODIFIED:20260317T171549Z
UID:2311-1773763200-1773763200@villaserenaassociation.com
SUMMARY:March Board Meeting
DESCRIPTION:
URL:https://villaserenaassociation.com/event/march-2026-board-meeting/
LOCATION:Villa Serena Clubhouse
CATEGORIES:Board Meeting
END:VEVENT
BEGIN:VEVENT
DTSTART;TZID=UTC:20260217T170000
DTEND;TZID=UTC:20260217T170000
DTSTAMP:20260423T185227
CREATED:20250926T163229Z
LAST-MODIFIED:20260317T171110Z
UID:2247-1771347600-1771347600@villaserenaassociation.com
SUMMARY:Annual Meeting
DESCRIPTION:5:00pm – Annual Meeting\n5:30pm – Social Hour\nHOA Annual Meeting – Owners\nSocial Hour Afterwards – Everyone welcome\n \nVS Annual Meeting 2026
URL:https://villaserenaassociation.com/event/annual-meeting-02172026/
LOCATION:Villa Serena Clubhouse
CATEGORIES:Board Meeting
ATTACH;FMTTYPE=image/png:https://villaserenaassociation.com/wp-content/uploads/2025/09/Annual-Meeting.png
END:VEVENT
BEGIN:VEVENT
DTSTART;VALUE=DATE:20260113
DTEND;VALUE=DATE:20260114
DTSTAMP:20260423T185227
CREATED:20250226T160422Z
LAST-MODIFIED:20250226T160422Z
UID:2123-1768262400-1768348799@villaserenaassociation.com
SUMMARY:January Board Meeting
DESCRIPTION:
URL:https://villaserenaassociation.com/event/january-2026-board-meeting/
LOCATION:Villa Serena Clubhouse
CATEGORIES:Board Meeting
END:VEVENT
BEGIN:VEVENT
DTSTART;VALUE=DATE:20251111
DTEND;VALUE=DATE:20251112
DTSTAMP:20260423T185227
CREATED:20250226T160304Z
LAST-MODIFIED:20250226T160304Z
UID:2121-1762819200-1762905599@villaserenaassociation.com
SUMMARY:November Board Meeting
DESCRIPTION:
URL:https://villaserenaassociation.com/event/november-2025-board-meeting/
LOCATION:Villa Serena Clubhouse
CATEGORIES:Board Meeting
END:VEVENT
BEGIN:VEVENT
DTSTART;VALUE=DATE:20250909
DTEND;VALUE=DATE:20250910
DTSTAMP:20260423T185227
CREATED:20250226T160147Z
LAST-MODIFIED:20250226T160147Z
UID:2119-1757376000-1757462399@villaserenaassociation.com
SUMMARY:September Board Meeting
DESCRIPTION:
URL:https://villaserenaassociation.com/event/september-2025-board-meeting/
LOCATION:Villa Serena Clubhouse
CATEGORIES:Board Meeting
END:VEVENT
BEGIN:VEVENT
DTSTART;TZID=UTC:20250508T150000
DTEND;TZID=UTC:20250508T150000
DTSTAMP:20260423T185227
CREATED:20250226T160025Z
LAST-MODIFIED:20250429T135304Z
UID:2117-1746716400-1746716400@villaserenaassociation.com
SUMMARY:May Board Meeting
DESCRIPTION:
URL:https://villaserenaassociation.com/event/may-2025-board-meeting/
LOCATION:Villa Serena Clubhouse
CATEGORIES:Board Meeting
END:VEVENT
BEGIN:VEVENT
DTSTART;VALUE=DATE:20250305
DTEND;VALUE=DATE:20250306
DTSTAMP:20260423T185227
CREATED:20250226T155851Z
LAST-MODIFIED:20250226T155919Z
UID:2115-1741132800-1741219199@villaserenaassociation.com
SUMMARY:March Board Meeting
DESCRIPTION:
URL:https://villaserenaassociation.com/event/march-2025-board-meeting/
LOCATION:Villa Serena Clubhouse
CATEGORIES:Board Meeting
END:VEVENT
BEGIN:VEVENT
DTSTART;TZID=UTC:20241102T090000
DTEND;TZID=UTC:20241102T090000
DTSTAMP:20260423T185227
CREATED:20240801T155511Z
LAST-MODIFIED:20240911T170730Z
UID:1738-1730538000-1730538000@villaserenaassociation.com
SUMMARY:November Board Meeting
DESCRIPTION:
URL:https://villaserenaassociation.com/event/november-2024-board-meeting/
LOCATION:Villa Serena Clubhouse
CATEGORIES:Board Meeting
END:VEVENT
BEGIN:VEVENT
DTSTART;TZID=UTC:20240907T090000
DTEND;TZID=UTC:20240907T090000
DTSTAMP:20260423T185227
CREATED:20240801T155223Z
LAST-MODIFIED:20240801T155328Z
UID:1735-1725699600-1725699600@villaserenaassociation.com
SUMMARY:September Board Meeting
DESCRIPTION:
URL:https://villaserenaassociation.com/event/september-2024-board-meeting/
LOCATION:Villa Serena Clubhouse
CATEGORIES:Board Meeting
END:VEVENT
END:VCALENDAR