BEGIN:VCALENDAR
VERSION:2.0
PRODID:-//Villa Serena Association - ECPv6.15.20//NONSGML v1.0//EN
CALSCALE:GREGORIAN
METHOD:PUBLISH
X-WR-CALNAME:Villa Serena Association
X-ORIGINAL-URL:https://villaserenaassociation.com
X-WR-CALDESC:Events for Villa Serena Association
REFRESH-INTERVAL;VALUE=DURATION:PT1H
X-Robots-Tag:noindex
X-PUBLISHED-TTL:PT1H
BEGIN:VTIMEZONE
TZID:UTC
BEGIN:STANDARD
TZOFFSETFROM:+0000
TZOFFSETTO:+0000
TZNAME:UTC
DTSTART:20250101T000000
END:STANDARD
END:VTIMEZONE
BEGIN:VEVENT
DTSTART;TZID=UTC:20260217T170000
DTEND;TZID=UTC:20260217T170000
DTSTAMP:20260423T201613
CREATED:20250926T163229Z
LAST-MODIFIED:20260317T171110Z
UID:2247-1771347600-1771347600@villaserenaassociation.com
SUMMARY:Annual Meeting
DESCRIPTION:5:00pm – Annual Meeting\n5:30pm – Social Hour\nHOA Annual Meeting – Owners\nSocial Hour Afterwards – Everyone welcome\n \nVS Annual Meeting 2026
URL:https://villaserenaassociation.com/event/annual-meeting-02172026/
LOCATION:Villa Serena Clubhouse
CATEGORIES:Board Meeting
ATTACH;FMTTYPE=image/png:https://villaserenaassociation.com/wp-content/uploads/2025/09/Annual-Meeting.png
END:VEVENT
END:VCALENDAR