BEGIN:VCALENDAR
VERSION:2.0
PRODID:-//Villa Serena Association - ECPv6.15.20//NONSGML v1.0//EN
CALSCALE:GREGORIAN
METHOD:PUBLISH
X-ORIGINAL-URL:https://villaserenaassociation.com
X-WR-CALDESC:Events for Villa Serena Association
REFRESH-INTERVAL;VALUE=DURATION:PT1H
X-Robots-Tag:noindex
X-PUBLISHED-TTL:PT1H
BEGIN:VTIMEZONE
TZID:UTC
BEGIN:STANDARD
TZOFFSETFROM:+0000
TZOFFSETTO:+0000
TZNAME:UTC
DTSTART:20240101T000000
END:STANDARD
END:VTIMEZONE
BEGIN:VEVENT
DTSTART;TZID=UTC:20250508T150000
DTEND;TZID=UTC:20250508T150000
DTSTAMP:20260424T142040
CREATED:20250226T160025Z
LAST-MODIFIED:20250429T135304Z
UID:2117-1746716400-1746716400@villaserenaassociation.com
SUMMARY:May Board Meeting
DESCRIPTION:
URL:https://villaserenaassociation.com/event/may-2025-board-meeting/
LOCATION:Villa Serena Clubhouse
CATEGORIES:Board Meeting
END:VEVENT
END:VCALENDAR